BEGIN:VCALENDAR
VERSION:2.0
PRODID:-//Anona United Methodist Church - ECPv6.15.17//NONSGML v1.0//EN
CALSCALE:GREGORIAN
METHOD:PUBLISH
X-WR-CALNAME:Anona United Methodist Church
X-ORIGINAL-URL:https://www.anona.com
X-WR-CALDESC:Events for Anona United Methodist Church
REFRESH-INTERVAL;VALUE=DURATION:PT1H
X-Robots-Tag:noindex
X-PUBLISHED-TTL:PT1H
BEGIN:VTIMEZONE
TZID:America/New_York
BEGIN:DAYLIGHT
TZOFFSETFROM:-0500
TZOFFSETTO:-0400
TZNAME:EDT
DTSTART:20250309T070000
END:DAYLIGHT
BEGIN:STANDARD
TZOFFSETFROM:-0400
TZOFFSETTO:-0500
TZNAME:EST
DTSTART:20251102T060000
END:STANDARD
BEGIN:DAYLIGHT
TZOFFSETFROM:-0500
TZOFFSETTO:-0400
TZNAME:EDT
DTSTART:20260308T070000
END:DAYLIGHT
BEGIN:STANDARD
TZOFFSETFROM:-0400
TZOFFSETTO:-0500
TZNAME:EST
DTSTART:20261101T060000
END:STANDARD
BEGIN:DAYLIGHT
TZOFFSETFROM:-0500
TZOFFSETTO:-0400
TZNAME:EDT
DTSTART:20270314T070000
END:DAYLIGHT
BEGIN:STANDARD
TZOFFSETFROM:-0400
TZOFFSETTO:-0500
TZNAME:EST
DTSTART:20271107T060000
END:STANDARD
END:VTIMEZONE
BEGIN:VEVENT
DTSTART;TZID=America/New_York:20260419T081500
DTEND;TZID=America/New_York:20260419T091500
DTSTAMP:20260423T060126
CREATED:20260408T134737Z
LAST-MODIFIED:20260408T151710Z
UID:10010414-1776586500-1776590100@www.anona.com
SUMMARY:Traditional Worship
DESCRIPTION:We are a church community that is made up of all generations\, and we invite you to visit us! Dress is informal. Come as you are\, even for our Traditional Service. Our various choirs alternate leading worship along with piano or organ accompaniment. We also have seasonal orchestra and bells. \n8:15am & 11:10am Sunday Morning services in Traditional Sanctuary
URL:https://www.anona.com/event/traditional-worship-25/
LOCATION:Anona Main: 12 – Traditional Sanctuary
END:VEVENT
BEGIN:VEVENT
DTSTART;TZID=America/New_York:20260419T093000
DTEND;TZID=America/New_York:20260419T102900
DTSTAMP:20260423T060126
CREATED:20260408T134738Z
LAST-MODIFIED:20260408T151710Z
UID:10010416-1776591000-1776594540@www.anona.com
SUMMARY:Contemporary Worship
DESCRIPTION:We are a church community that is made up of all generations\, and we invite you to visit us! Dress is informal. Come as you are\, even for our Traditional Service. The services start on time\, but many people come early and spend time in our Fellowship Area enjoying coffee and conversation. We have a Worship Band that includes vocals\, keyboard\, drums\, guitar\, and more. \n9:30am Sunday Morning service in Worship Center
URL:https://www.anona.com/event/contemporary-worship-13/
LOCATION:Anona Main: 133 – Worship Center
END:VEVENT
BEGIN:VEVENT
DTSTART;TZID=America/New_York:20260419T093000
DTEND;TZID=America/New_York:20260419T103000
DTSTAMP:20260423T060126
CREATED:20260316T143251Z
LAST-MODIFIED:20260419T144728Z
UID:10010243-1776591000-1776594600@www.anona.com
SUMMARY:Anona Kids
DESCRIPTION:Anona Kids is our K-5th grade Sunday morning small group experience!  \nJoin us every week for fun\, music\, games\, and an engaging Bible story in large group. Then connect with your small group leader and make new friends while you go deeper into what we are learning about in your small group. We want your child to know that God loves them\, they can trust God no matter what\, and they should love others like Jesus loves them.
URL:https://www.anona.com/event/anona-kids-14/
LOCATION:Anona Main: 321 – ACDC East Classroom 3C (parking entrance)\, 320 – ACDC Center Classroom\, 319 – ACDC West Classroom (breezeway entrance)\, 312 – Anona Theater/Wesley Hall
END:VEVENT
BEGIN:VEVENT
DTSTART;TZID=America/New_York:20260419T093000
DTEND;TZID=America/New_York:20260419T103000
DTSTAMP:20260423T060126
CREATED:20260408T134738Z
LAST-MODIFIED:20260408T151710Z
UID:10010415-1776591000-1776594600@www.anona.com
SUMMARY:Fast Crowd Sunday School
DESCRIPTION:F.A.S.T Crowd (Fellowship And Service Together)\nF.A.S.T. Crowd\, which meets in room 110 and via Zoom\, is a large class that enjoys fellowship and Bible study. Based on the previous week’s sermon\, the study includes scripture\, historical background\, timelines\, Holy Land site photos\, videos and class discussion to bring our faith to life in light of today’s world. Class largely includes individuals and couples in their forties up to retirees\, but all are welcome.  Leader to Contact: Jac’line Weisgerber to get information on how to connect via Zoom.
URL:https://www.anona.com/event/fast-crowd-sunday-school-15/
LOCATION:Anona Main: 110 – Classroom
END:VEVENT
BEGIN:VEVENT
DTSTART;TZID=America/New_York:20260419T093000
DTEND;TZID=America/New_York:20260419T103000
DTSTAMP:20260423T060126
CREATED:20260408T134739Z
LAST-MODIFIED:20260408T151711Z
UID:10010417-1776591000-1776594600@www.anona.com
SUMMARY:Anona Little Kids
DESCRIPTION:The Nursery is a safe & special place filled with love\, laughter\, and learning.  We believe that children are a gift from God and can experience and learn about God's love right from the start.  Your child will receive professional care from a staff of background screened and trained caregivers. \nAvailable for Children 6 weeks through VPK during 9:30am service
URL:https://www.anona.com/event/anona-little-kids-7/
LOCATION:Anona Main: 302 – Nursery
END:VEVENT
BEGIN:VEVENT
DTSTART;TZID=America/New_York:20260419T110000
DTEND;TZID=America/New_York:20260419T120000
DTSTAMP:20260423T060126
CREATED:20260408T134739Z
LAST-MODIFIED:20260408T151711Z
UID:10010418-1776596400-1776600000@www.anona.com
SUMMARY:Traditional Worship
DESCRIPTION:We are a church community that is made up of all generations\, and we invite you to visit us! Dress is informal. Come as you are\, even for our Traditional Service. Our various choirs alternate leading worship along with piano or organ accompaniment. We also have seasonal orchestra and bells. \n8:15am & 11:00am Sunday Morning services in Traditional Sanctuary
URL:https://www.anona.com/event/traditional-worship-26/
LOCATION:Anona Main: 12 – Traditional Sanctuary
END:VEVENT
BEGIN:VEVENT
DTSTART;TZID=America/New_York:20260419T150000
DTEND;TZID=America/New_York:20260419T160000
DTSTAMP:20260423T060126
CREATED:20260408T134751Z
LAST-MODIFIED:20260408T151724Z
UID:10010419-1776610800-1776614400@www.anona.com
SUMMARY:Pinecrest Place Worship
DESCRIPTION:Residents of Pinecrest and their families or friends are invited to participate in a Traditional Worship held in the Serendipity Room. This is a multi-site\, off-campus service. Each week you will have an opportunity to sing\, pray\, share concerns and joys\, hear a meaningful and scriptural message and be in fellowship with one another.
URL:https://www.anona.com/event/pinecrest-place-worship-12/
END:VEVENT
BEGIN:VEVENT
DTSTART;TZID=America/New_York:20260419T170000
DTEND;TZID=America/New_York:20260419T193000
DTSTAMP:20260423T060126
CREATED:20260316T143251Z
LAST-MODIFIED:20260419T144729Z
UID:10010244-1776618000-1776627000@www.anona.com
SUMMARY:Youth Group
DESCRIPTION:Anona Youth is a program for 6-12th grade students. Students are asked to check-in at our main Indian Rocks Road entrance. Anona Youth has a well designed program that allows freedom and a safe place to engage in any of our various activities: snacks\, free time\, games\, while bringing the whole together for worship led by our youth band and a group message followed by small group discussions. If you have any questions about our program\, please reach out to our Youth Director\, Megan Trunzo – megan@anona.com
URL:https://www.anona.com/event/youth-group-8/
LOCATION:Anona Main: 132 – WC Rear Expandable Room\, 118 – WC Expandable Room \, 117 – WC Expandable Room \, 131 – WC Cry Room\, 125 – Youth Room\, 130 – Front Office
END:VEVENT
END:VCALENDAR