BEGIN:VCALENDAR
VERSION:2.0
PRODID:-//Anona United Methodist Church - ECPv6.15.17//NONSGML v1.0//EN
CALSCALE:GREGORIAN
METHOD:PUBLISH
X-WR-CALNAME:Anona United Methodist Church
X-ORIGINAL-URL:https://www.anona.com
X-WR-CALDESC:Events for Anona United Methodist Church
REFRESH-INTERVAL;VALUE=DURATION:PT1H
X-Robots-Tag:noindex
X-PUBLISHED-TTL:PT1H
BEGIN:VTIMEZONE
TZID:America/New_York
BEGIN:DAYLIGHT
TZOFFSETFROM:-0500
TZOFFSETTO:-0400
TZNAME:EDT
DTSTART:20250309T070000
END:DAYLIGHT
BEGIN:STANDARD
TZOFFSETFROM:-0400
TZOFFSETTO:-0500
TZNAME:EST
DTSTART:20251102T060000
END:STANDARD
BEGIN:DAYLIGHT
TZOFFSETFROM:-0500
TZOFFSETTO:-0400
TZNAME:EDT
DTSTART:20260308T070000
END:DAYLIGHT
BEGIN:STANDARD
TZOFFSETFROM:-0400
TZOFFSETTO:-0500
TZNAME:EST
DTSTART:20261101T060000
END:STANDARD
BEGIN:DAYLIGHT
TZOFFSETFROM:-0500
TZOFFSETTO:-0400
TZNAME:EDT
DTSTART:20270314T070000
END:DAYLIGHT
BEGIN:STANDARD
TZOFFSETFROM:-0400
TZOFFSETTO:-0500
TZNAME:EST
DTSTART:20271107T060000
END:STANDARD
END:VTIMEZONE
BEGIN:VEVENT
DTSTART;TZID=America/New_York:20260420T100000
DTEND;TZID=America/New_York:20260420T113000
DTSTAMP:20260420T074249
CREATED:20260408T134751Z
LAST-MODIFIED:20260408T151724Z
UID:10010420-1776679200-1776684600@www.anona.com
SUMMARY:Caffeine and Conversation
DESCRIPTION:An ongoing women’s Zoom gathering every Monday morning from 10 am to approximately 11:30 am. Grab your favorite morning beverage and join this group as they share discussions on a wide range of topics: previous day’s sermon\, happenings at Anona\, current events\, prayer concerns and much more. Hosted by Kathy Bell and Mary Watson.
URL:https://www.anona.com/event/caffeine-and-conversation-11/
END:VEVENT
BEGIN:VEVENT
DTSTART;TZID=America/New_York:20260420T180000
DTEND;TZID=America/New_York:20260420T200000
DTSTAMP:20260420T074249
CREATED:20260408T121748Z
LAST-MODIFIED:20260408T190302Z
UID:10010388-1776708000-1776715200@www.anona.com
SUMMARY:Anona's Micah Project
DESCRIPTION:Anona’s Micah Project (AMP) Social Justice group\, meets every 3rd Monday to work on action steps to better our community and our world. Micah 6:8 And what does the Lord require of you? To act justly\, Love mercy and walk humbly with your God.
URL:https://www.anona.com/event/anonas-micah-project-2/
LOCATION:Anona Main: 312 – Anona Theater/Wesley Hall
CATEGORIES:Adults,Featured Events
END:VEVENT
END:VCALENDAR