BEGIN:VCALENDAR
VERSION:2.0
PRODID:-//Anona United Methodist Church - ECPv6.15.17//NONSGML v1.0//EN
CALSCALE:GREGORIAN
METHOD:PUBLISH
X-WR-CALNAME:Anona United Methodist Church
X-ORIGINAL-URL:https://www.anona.com
X-WR-CALDESC:Events for Anona United Methodist Church
REFRESH-INTERVAL;VALUE=DURATION:PT1H
X-Robots-Tag:noindex
X-PUBLISHED-TTL:PT1H
BEGIN:VTIMEZONE
TZID:America/New_York
BEGIN:DAYLIGHT
TZOFFSETFROM:-0500
TZOFFSETTO:-0400
TZNAME:EDT
DTSTART:20250309T070000
END:DAYLIGHT
BEGIN:STANDARD
TZOFFSETFROM:-0400
TZOFFSETTO:-0500
TZNAME:EST
DTSTART:20251102T060000
END:STANDARD
BEGIN:DAYLIGHT
TZOFFSETFROM:-0500
TZOFFSETTO:-0400
TZNAME:EDT
DTSTART:20260308T070000
END:DAYLIGHT
BEGIN:STANDARD
TZOFFSETFROM:-0400
TZOFFSETTO:-0500
TZNAME:EST
DTSTART:20261101T060000
END:STANDARD
BEGIN:DAYLIGHT
TZOFFSETFROM:-0500
TZOFFSETTO:-0400
TZNAME:EDT
DTSTART:20270314T070000
END:DAYLIGHT
BEGIN:STANDARD
TZOFFSETFROM:-0400
TZOFFSETTO:-0500
TZNAME:EST
DTSTART:20271107T060000
END:STANDARD
END:VTIMEZONE
BEGIN:VEVENT
DTSTART;TZID=America/New_York:20260421T180000
DTEND;TZID=America/New_York:20260421T200000
DTSTAMP:20260421T031711
CREATED:20260309T173241Z
LAST-MODIFIED:20260311T172034Z
UID:10010178-1776794400-1776801600@www.anona.com
SUMMARY:Art & Soul
DESCRIPTION:Join us for open crafting\, lessons\, and an opportunity to serve our military and seniors. No experience is required; this is a space to gather\, create\, learn\, and grow. Participants are encouraged to bring an open heart and a personal craft box (scissors\, yarn\, ribbon\, lace\, glue\, buttons\, paper\, etc.)\, though general supplies will also be provided. Artandsoulanona@gmail.com \nMeet in Wesley Hall on the 1st & 3rd Tuesdays of the month.\nEnter through entrance B Family Ministry off Wilcox Road\, to reach Wesley Hall.
URL:https://www.anona.com/event/art-soul-54/
LOCATION:Anona Main: 312 – Anona Theater/Wesley Hall
END:VEVENT
BEGIN:VEVENT
DTSTART;TZID=America/New_York:20260421T190000
DTEND;TZID=America/New_York:20260421T200000
DTSTAMP:20260421T031711
CREATED:20260316T143303Z
LAST-MODIFIED:20260420T154744Z
UID:10010245-1776798000-1776801600@www.anona.com
SUMMARY:Women's Bible Study
DESCRIPTION:We are a wonderful community of ladies desiring to learn and draw closer to Jesus through God's Word. We invite you to come join us. Any questions\, please contact the front office.  \n Our next study begins April 21st. We will study Determined by Heather M Dixon\, Living like Jesus in Every Moment\, A Study of Luke.  \nTuesday evening 7pm & Thursday morning 10am
URL:https://www.anona.com/event/womens-bible-study-27/
LOCATION:Anona Main: ZOOM Cart 1 (Room 110/Main/Mic)\, 110 – Classroom
CATEGORIES:Featured Events
END:VEVENT
END:VCALENDAR