BEGIN:VCALENDAR
VERSION:2.0
PRODID:-//Anona United Methodist Church - ECPv6.15.17//NONSGML v1.0//EN
CALSCALE:GREGORIAN
METHOD:PUBLISH
X-WR-CALNAME:Anona United Methodist Church
X-ORIGINAL-URL:https://www.anona.com
X-WR-CALDESC:Events for Anona United Methodist Church
REFRESH-INTERVAL;VALUE=DURATION:PT1H
X-Robots-Tag:noindex
X-PUBLISHED-TTL:PT1H
BEGIN:VTIMEZONE
TZID:America/New_York
BEGIN:DAYLIGHT
TZOFFSETFROM:-0500
TZOFFSETTO:-0400
TZNAME:EDT
DTSTART:20250309T070000
END:DAYLIGHT
BEGIN:STANDARD
TZOFFSETFROM:-0400
TZOFFSETTO:-0500
TZNAME:EST
DTSTART:20251102T060000
END:STANDARD
BEGIN:DAYLIGHT
TZOFFSETFROM:-0500
TZOFFSETTO:-0400
TZNAME:EDT
DTSTART:20260308T070000
END:DAYLIGHT
BEGIN:STANDARD
TZOFFSETFROM:-0400
TZOFFSETTO:-0500
TZNAME:EST
DTSTART:20261101T060000
END:STANDARD
BEGIN:DAYLIGHT
TZOFFSETFROM:-0500
TZOFFSETTO:-0400
TZNAME:EDT
DTSTART:20270314T070000
END:DAYLIGHT
BEGIN:STANDARD
TZOFFSETFROM:-0400
TZOFFSETTO:-0500
TZNAME:EST
DTSTART:20271107T060000
END:STANDARD
END:VTIMEZONE
BEGIN:VEVENT
DTSTART;TZID=America/New_York:20260311T173000
DTEND;TZID=America/New_York:20260311T193000
DTSTAMP:20260424T234318
CREATED:20260213T142847Z
LAST-MODIFIED:20260311T171723Z
UID:10009099-1773250200-1773257400@www.anona.com
SUMMARY:Lenten Study All Ages
DESCRIPTION:Join us on Wednesday evenings this Lenten season for a time of fellowship\, learning\, and spiritual growth. The evening begins with an optional\, open-house-style dinner\, providing an opportunity to connect before we break into age-specific Bible studies. Programs are available for children as young as six months through adulthood\, and registration is required. \nAdults – Worship Center\nElementary & Littles – Wesley Hall\nMiddle & High School – Youth Room
URL:https://www.anona.com/event/lenten-study-all-ages-3/
LOCATION:Anona Main: 125 – Youth Room\, 133 – Worship Center\, 312 – Anona Theater/Wesley Hall
END:VEVENT
BEGIN:VEVENT
DTSTART;TZID=America/New_York:20260304T173000
DTEND;TZID=America/New_York:20260304T193000
DTSTAMP:20260424T234318
CREATED:20260213T142821Z
LAST-MODIFIED:20260226T183312Z
UID:10009071-1772645400-1772652600@www.anona.com
SUMMARY:Lenten Study All Ages
DESCRIPTION:Join us on Wednesday evenings this Lenten season for a time of fellowship\, learning\, and spiritual growth. The evening begins with an optional\, open-house-style dinner\, providing an opportunity to connect before we break into age-specific Bible studies. Programs are available for children as young as six months through adulthood\, and registration is required.\nAdults – Worship Center\nElementary & Littles – Wesley Hall\nMiddle & High School – Youth Room
URL:https://www.anona.com/event/lenten-study-all-ages-2/
LOCATION:Anona Main: 125 – Youth Room\, 133 – Worship Center\, 312 – Anona Theater/Wesley Hall
END:VEVENT
BEGIN:VEVENT
DTSTART;TZID=America/New_York:20260225T173000
DTEND;TZID=America/New_York:20260225T193000
DTSTAMP:20260424T234318
CREATED:20260213T142742Z
LAST-MODIFIED:20260226T061744Z
UID:10009048-1772040600-1772047800@www.anona.com
SUMMARY:Lenten Study All Ages
DESCRIPTION:Join us on Wednesday evenings this Lenten season for a time of fellowship\, learning\, and spiritual growth. The evening begins with an optional\, open-house-style dinner\, providing an opportunity to connect before we break into age-specific Bible studies. Programs are available for children as young as six months through adulthood\, and registration is required.\nAdults – Worship Center\nElementary & Littles – Wesley Hall\nMiddle & High School – Youth Room
URL:https://www.anona.com/event/lenten-study-all-ages/
LOCATION:Anona Main: 125 – Youth Room\, 133 – Worship Center\, 312 – Anona Theater/Wesley Hall
END:VEVENT
END:VCALENDAR