BEGIN:VCALENDAR
VERSION:2.0
PRODID:-//Anona United Methodist Church - ECPv6.15.17//NONSGML v1.0//EN
CALSCALE:GREGORIAN
METHOD:PUBLISH
X-ORIGINAL-URL:https://www.anona.com
X-WR-CALDESC:Events for Anona United Methodist Church
REFRESH-INTERVAL;VALUE=DURATION:PT1H
X-Robots-Tag:noindex
X-PUBLISHED-TTL:PT1H
BEGIN:VTIMEZONE
TZID:America/New_York
BEGIN:DAYLIGHT
TZOFFSETFROM:-0500
TZOFFSETTO:-0400
TZNAME:EDT
DTSTART:20260308T070000
END:DAYLIGHT
BEGIN:STANDARD
TZOFFSETFROM:-0400
TZOFFSETTO:-0500
TZNAME:EST
DTSTART:20261101T060000
END:STANDARD
BEGIN:DAYLIGHT
TZOFFSETFROM:-0500
TZOFFSETTO:-0400
TZNAME:EDT
DTSTART:20270314T070000
END:DAYLIGHT
BEGIN:STANDARD
TZOFFSETFROM:-0400
TZOFFSETTO:-0500
TZNAME:EST
DTSTART:20271107T060000
END:STANDARD
BEGIN:DAYLIGHT
TZOFFSETFROM:-0500
TZOFFSETTO:-0400
TZNAME:EDT
DTSTART:20280312T070000
END:DAYLIGHT
BEGIN:STANDARD
TZOFFSETFROM:-0400
TZOFFSETTO:-0500
TZNAME:EST
DTSTART:20281105T060000
END:STANDARD
END:VTIMEZONE
BEGIN:VEVENT
DTSTART;TZID=America/New_York:20270414T090000
DTEND;TZID=America/New_York:20270414T092900
DTSTAMP:20260425T110539
CREATED:20260414T041723Z
LAST-MODIFIED:20260414T041723Z
UID:10010674-1807693200-1807694940@www.anona.com
SUMMARY:Walk15® with Molly
DESCRIPTION:Walk15® with Molly \nA heart-pumping\, calorie torching aerobic workout\, Walk15® is the group exercise version of Leslie Sansone’s ‘Walk at Home’ video programs. Easy to follow\, adaptable to all levels of fitness\, our 30 minute workout is equivalent to a 2 mile walk. Those 15 minute miles add up to an effective workout for “all walks of life”!  Dress comfortably with athletic shoes\, bring your water bottle\, and join us in the Worship Center Wednesdays at 9AM. Molly Schaaf  walklivewithmolly@gmail.com
URL:https://www.anona.com/event/walk15-with-molly-65/
LOCATION:Anona Main: 312 – Anona Theater/Wesley Hall
END:VEVENT
BEGIN:VEVENT
DTSTART;TZID=America/New_York:20270414T093000
DTEND;TZID=America/New_York:20270414T130000
DTSTAMP:20260425T110539
CREATED:20260414T041723Z
LAST-MODIFIED:20260414T041724Z
UID:10010675-1807695000-1807707600@www.anona.com
SUMMARY:Sew n' Sews
DESCRIPTION:If you are interested in participating in a ministry that creates hope in the form of quilts\, contact Peggy Junkin or Pat Juds.  Sew n' Sews meet on Wednesdays in Wesley Hall at 9:30am.\nNo sewing experience required.
URL:https://www.anona.com/event/sew-n-sews-59/
LOCATION:Anona Main: 312 – Anona Theater/Wesley Hall
END:VEVENT
BEGIN:VEVENT
DTSTART;TZID=America/New_York:20270419T180000
DTEND;TZID=America/New_York:20270419T200000
DTSTAMP:20260425T110539
CREATED:20260419T040223Z
LAST-MODIFIED:20260419T040223Z
UID:10010691-1808157600-1808164800@www.anona.com
SUMMARY:Anona's Micah Project
DESCRIPTION:Anona’s Micah Project (AMP) Social Justice group\, meets every 3rd Monday to work on action steps to better our community and our world. Micah 6:8 And what does the Lord require of you? To act justly\, Love mercy and walk humbly with your God.
URL:https://www.anona.com/event/anonas-micah-project-6/
LOCATION:Anona Main: 312 – Anona Theater/Wesley Hall
END:VEVENT
BEGIN:VEVENT
DTSTART;TZID=America/New_York:20270420T180000
DTEND;TZID=America/New_York:20270420T200000
DTSTAMP:20260425T110539
CREATED:20260420T041723Z
LAST-MODIFIED:20260420T051755Z
UID:10010692-1808244000-1808251200@www.anona.com
SUMMARY:Art & Soul
DESCRIPTION:Join us for open crafting\, lessons\, and an opportunity to serve our military and seniors. No experience is required; this is a space to gather\, create\, learn\, and grow. Participants are encouraged to bring an open heart and a personal craft box (scissors\, yarn\, ribbon\, lace\, glue\, buttons\, paper\, etc.)\, though general supplies will also be provided. Artandsoulanona@gmail.com \nMeet in Wesley Hall on the 1st & 3rd Tuesdays of the month.\nEnter through entrance B Family Ministry off Wilcox Road\, to reach Wesley Hall.
URL:https://www.anona.com/event/art-soul-3/
LOCATION:Anona Main: 312 – Anona Theater/Wesley Hall
END:VEVENT
BEGIN:VEVENT
DTSTART;TZID=America/New_York:20270421T090000
DTEND;TZID=America/New_York:20270421T092900
DTSTAMP:20260425T110539
CREATED:20260421T043252Z
LAST-MODIFIED:20260421T043252Z
UID:10010735-1808298000-1808299740@www.anona.com
SUMMARY:Walk15® with Molly
DESCRIPTION:Walk15® with Molly \nA heart-pumping\, calorie torching aerobic workout\, Walk15® is the group exercise version of Leslie Sansone’s ‘Walk at Home’ video programs. Easy to follow\, adaptable to all levels of fitness\, our 30 minute workout is equivalent to a 2 mile walk. Those 15 minute miles add up to an effective workout for “all walks of life”!  Dress comfortably with athletic shoes\, bring your water bottle\, and join us in the Worship Center Wednesdays at 9AM. Molly Schaaf  walklivewithmolly@gmail.com
URL:https://www.anona.com/event/walk15-with-molly-66/
LOCATION:Anona Main: 312 – Anona Theater/Wesley Hall
END:VEVENT
BEGIN:VEVENT
DTSTART;TZID=America/New_York:20270421T093000
DTEND;TZID=America/New_York:20270421T130000
DTSTAMP:20260425T110539
CREATED:20260421T043252Z
LAST-MODIFIED:20260421T043253Z
UID:10010736-1808299800-1808312400@www.anona.com
SUMMARY:Sew n' Sews
DESCRIPTION:If you are interested in participating in a ministry that creates hope in the form of quilts\, contact Peggy Junkin or Pat Juds.  Sew n' Sews meet on Wednesdays in Wesley Hall at 9:30am.\nNo sewing experience required.
URL:https://www.anona.com/event/sew-n-sews-60/
LOCATION:Anona Main: 312 – Anona Theater/Wesley Hall
END:VEVENT
END:VCALENDAR