BEGIN:VCALENDAR
VERSION:2.0
PRODID:-//Anona United Methodist Church - ECPv6.15.17//NONSGML v1.0//EN
CALSCALE:GREGORIAN
METHOD:PUBLISH
X-WR-CALNAME:Anona United Methodist Church
X-ORIGINAL-URL:https://www.anona.com
X-WR-CALDESC:Events for Anona United Methodist Church
REFRESH-INTERVAL;VALUE=DURATION:PT1H
X-Robots-Tag:noindex
X-PUBLISHED-TTL:PT1H
BEGIN:VTIMEZONE
TZID:America/New_York
BEGIN:DAYLIGHT
TZOFFSETFROM:-0500
TZOFFSETTO:-0400
TZNAME:EDT
DTSTART:20250309T070000
END:DAYLIGHT
BEGIN:STANDARD
TZOFFSETFROM:-0400
TZOFFSETTO:-0500
TZNAME:EST
DTSTART:20251102T060000
END:STANDARD
BEGIN:DAYLIGHT
TZOFFSETFROM:-0500
TZOFFSETTO:-0400
TZNAME:EDT
DTSTART:20260308T070000
END:DAYLIGHT
BEGIN:STANDARD
TZOFFSETFROM:-0400
TZOFFSETTO:-0500
TZNAME:EST
DTSTART:20261101T060000
END:STANDARD
BEGIN:DAYLIGHT
TZOFFSETFROM:-0500
TZOFFSETTO:-0400
TZNAME:EDT
DTSTART:20270314T070000
END:DAYLIGHT
BEGIN:STANDARD
TZOFFSETFROM:-0400
TZOFFSETTO:-0500
TZNAME:EST
DTSTART:20271107T060000
END:STANDARD
END:VTIMEZONE
BEGIN:VEVENT
DTSTART;TZID=America/New_York:20260204T090000
DTEND;TZID=America/New_York:20260204T092900
DTSTAMP:20260425T091434
CREATED:20260213T142613Z
LAST-MODIFIED:20260214T101025Z
UID:10008975-1770195600-1770197340@www.anona.com
SUMMARY:Walk15® with Molly
DESCRIPTION:Walk15® with Molly\nA heart-pumping\, calorie torching aerobic workout\, Walk15® is the group exercise version of Leslie Sansone’s ‘Walk at Home’ video programs. Easy to follow\, adaptable to all levels of fitness\, our 30 minute workout is equivalent to a 2 mile walk. Those 15 minute miles add up to an effective workout for “all walks of life”!  Dress comfortably with athletic shoes\, bring your water bottle\, and join us in the Worship Center Wednesdays at 9AM. Molly Schaaf  walklivewithmolly@gmail.com
URL:https://www.anona.com/event/walk15-with-molly-5/
LOCATION:Anona Main: 312 – Anona Theater/Wesley Hall
END:VEVENT
BEGIN:VEVENT
DTSTART;TZID=America/New_York:20260128T130000
DTEND;TZID=America/New_York:20260128T150000
DTSTAMP:20260425T091434
CREATED:20260213T142547Z
LAST-MODIFIED:20260214T101001Z
UID:10008956-1769605200-1769612400@www.anona.com
SUMMARY:Sew for Kids Workshop
DESCRIPTION:Sew for Kids volunteers create dresses and shorts for children\, both locally and abroad. Volunteers meet together for a variety of tasks: ironing fabric and iron-on labels\, cutting fabric using patterns\, measuring and cutting elastic and bias tape\, assembling kits for folks to sew at home\, and sewing dresses and shorts from the kits. Whether in a workshop at the church or sewing at home\, this work makes a significant difference in the lives of these children. We have one evening and one afternoon workshop per month and kits are available for sew at home by request. Contact: Molly Schaaf  mfschaaf@aol.com
URL:https://www.anona.com/event/sew-for-kids-workshop/
LOCATION:Anona Main: 312 – Anona Theater/Wesley Hall
END:VEVENT
BEGIN:VEVENT
DTSTART;TZID=America/New_York:20260128T090000
DTEND;TZID=America/New_York:20260128T092900
DTSTAMP:20260425T091434
CREATED:20260213T142547Z
LAST-MODIFIED:20260214T101001Z
UID:10008955-1769590800-1769592540@www.anona.com
SUMMARY:Walk15® with Molly
DESCRIPTION:Walk15® with Molly\nA heart-pumping\, calorie torching aerobic workout\, Walk15® is the group exercise version of Leslie Sansone’s ‘Walk at Home’ video programs. Easy to follow\, adaptable to all levels of fitness\, our 30 minute workout is equivalent to a 2 mile walk. Those 15 minute miles add up to an effective workout for “all walks of life”!  Dress comfortably with athletic shoes\, bring your water bottle\, and join us in the Worship Center Wednesdays at 9AM. Molly Schaaf  walklivewithmolly@gmail.com
URL:https://www.anona.com/event/walk15-with-molly-4/
LOCATION:Anona Main: 312 – Anona Theater/Wesley Hall
END:VEVENT
BEGIN:VEVENT
DTSTART;TZID=America/New_York:20260121T090000
DTEND;TZID=America/New_York:20260121T092900
DTSTAMP:20260425T091434
CREATED:20260213T142534Z
LAST-MODIFIED:20260214T100950Z
UID:10008944-1768986000-1768987740@www.anona.com
SUMMARY:Walk15® with Molly
DESCRIPTION:Walk15® with Molly\nA heart-pumping\, calorie torching aerobic workout\, Walk15® is the group exercise version of Leslie Sansone’s ‘Walk at Home’ video programs. Easy to follow\, adaptable to all levels of fitness\, our 30 minute workout is equivalent to a 2 mile walk. Those 15 minute miles add up to an effective workout for “all walks of life”!  Dress comfortably with athletic shoes\, bring your water bottle\, and join us in the Worship Center Wednesdays at 9AM. Molly Schaaf  walklivewithmolly@gmail.com
URL:https://www.anona.com/event/walk15-with-molly-3/
LOCATION:Anona Main: 312 – Anona Theater/Wesley Hall
END:VEVENT
BEGIN:VEVENT
DTSTART;TZID=America/New_York:20260114T090000
DTEND;TZID=America/New_York:20260114T092900
DTSTAMP:20260425T091434
CREATED:20260213T142521Z
LAST-MODIFIED:20260214T100937Z
UID:10008932-1768381200-1768382940@www.anona.com
SUMMARY:Walk15® with Molly
DESCRIPTION:Walk15® with Molly\nA heart-pumping\, calorie torching aerobic workout\, Walk15® is the group exercise version of Leslie Sansone’s ‘Walk at Home’ video programs. Easy to follow\, adaptable to all levels of fitness\, our 30 minute workout is equivalent to a 2 mile walk. Those 15 minute miles add up to an effective workout for “all walks of life”!  Dress comfortably with athletic shoes\, bring your water bottle\, and join us in the Worship Center Wednesdays at 9AM. Molly Schaaf  walklivewithmolly@gmail.com
URL:https://www.anona.com/event/walk15-with-molly-2/
LOCATION:Anona Main: 312 – Anona Theater/Wesley Hall
END:VEVENT
BEGIN:VEVENT
DTSTART;TZID=America/New_York:20260107T090000
DTEND;TZID=America/New_York:20260107T092900
DTSTAMP:20260425T091434
CREATED:20260213T142456Z
LAST-MODIFIED:20260214T100914Z
UID:10008919-1767776400-1767778140@www.anona.com
SUMMARY:Walk15® with Molly
DESCRIPTION:Walk15® with Molly\nA heart-pumping\, calorie torching aerobic workout\, Walk15® is the group exercise version of Leslie Sansone’s ‘Walk at Home’ video programs. Easy to follow\, adaptable to all levels of fitness\, our 30 minute workout is equivalent to a 2 mile walk. Those 15 minute miles add up to an effective workout for “all walks of life”!  Dress comfortably with athletic shoes\, bring your water bottle\, and join us in the Worship Center Wednesdays at 9AM. Molly Schaaf  walklivewithmolly@gmail.com
URL:https://www.anona.com/event/walk15-with-molly/
LOCATION:Anona Main: 312 – Anona Theater/Wesley Hall
END:VEVENT
END:VCALENDAR