BEGIN:VCALENDAR
VERSION:2.0
PRODID:-//Anona United Methodist Church - ECPv6.15.17//NONSGML v1.0//EN
CALSCALE:GREGORIAN
METHOD:PUBLISH
X-ORIGINAL-URL:https://www.anona.com
X-WR-CALDESC:Events for Anona United Methodist Church
REFRESH-INTERVAL;VALUE=DURATION:PT1H
X-Robots-Tag:noindex
X-PUBLISHED-TTL:PT1H
BEGIN:VTIMEZONE
TZID:America/New_York
BEGIN:DAYLIGHT
TZOFFSETFROM:-0500
TZOFFSETTO:-0400
TZNAME:EDT
DTSTART:20250309T070000
END:DAYLIGHT
BEGIN:STANDARD
TZOFFSETFROM:-0400
TZOFFSETTO:-0500
TZNAME:EST
DTSTART:20251102T060000
END:STANDARD
BEGIN:DAYLIGHT
TZOFFSETFROM:-0500
TZOFFSETTO:-0400
TZNAME:EDT
DTSTART:20260308T070000
END:DAYLIGHT
BEGIN:STANDARD
TZOFFSETFROM:-0400
TZOFFSETTO:-0500
TZNAME:EST
DTSTART:20261101T060000
END:STANDARD
BEGIN:DAYLIGHT
TZOFFSETFROM:-0500
TZOFFSETTO:-0400
TZNAME:EDT
DTSTART:20270314T070000
END:DAYLIGHT
BEGIN:STANDARD
TZOFFSETFROM:-0400
TZOFFSETTO:-0500
TZNAME:EST
DTSTART:20271107T060000
END:STANDARD
END:VTIMEZONE
BEGIN:VEVENT
DTSTART;TZID=America/New_York:20260524T081500
DTEND;TZID=America/New_York:20260524T123000
DTSTAMP:20260420T043809
CREATED:20260414T000239Z
LAST-MODIFIED:20260418T020839Z
UID:10010668-1779610500-1779625800@www.anona.com
SUMMARY:Graduation Sunday
DESCRIPTION:Graduation Sunday \nSunday\, May 24th @ all morning services \nWe invite all youth group families to join us on Sunday\, May 24th for one of our morning worship services (Traditional 8:15am\, Contemporary 9:30am\, or Traditional 11:00am). In each service\, our church will take time to pray over our graduating seniors\, asking God to guide and go with them as they step into what’s next!
URL:https://www.anona.com/event/graduation-sunday/
LOCATION:Anona Main: 125 – Youth Room
CATEGORIES:Youth Events
END:VEVENT
END:VCALENDAR