BEGIN:VCALENDAR
VERSION:2.0
PRODID:-//Anona United Methodist Church - ECPv6.15.17//NONSGML v1.0//EN
CALSCALE:GREGORIAN
METHOD:PUBLISH
X-ORIGINAL-URL:https://www.anona.com
X-WR-CALDESC:Events for Anona United Methodist Church
REFRESH-INTERVAL;VALUE=DURATION:PT1H
X-Robots-Tag:noindex
X-PUBLISHED-TTL:PT1H
BEGIN:VTIMEZONE
TZID:America/New_York
BEGIN:DAYLIGHT
TZOFFSETFROM:-0500
TZOFFSETTO:-0400
TZNAME:EDT
DTSTART:20250309T070000
END:DAYLIGHT
BEGIN:STANDARD
TZOFFSETFROM:-0400
TZOFFSETTO:-0500
TZNAME:EST
DTSTART:20251102T060000
END:STANDARD
BEGIN:DAYLIGHT
TZOFFSETFROM:-0500
TZOFFSETTO:-0400
TZNAME:EDT
DTSTART:20260308T070000
END:DAYLIGHT
BEGIN:STANDARD
TZOFFSETFROM:-0400
TZOFFSETTO:-0500
TZNAME:EST
DTSTART:20261101T060000
END:STANDARD
BEGIN:DAYLIGHT
TZOFFSETFROM:-0500
TZOFFSETTO:-0400
TZNAME:EDT
DTSTART:20270314T070000
END:DAYLIGHT
BEGIN:STANDARD
TZOFFSETFROM:-0400
TZOFFSETTO:-0500
TZNAME:EST
DTSTART:20271107T060000
END:STANDARD
END:VTIMEZONE
BEGIN:VEVENT
DTSTART;TZID=America/New_York:20260803T090000
DTEND;TZID=America/New_York:20260803T120000
DTSTAMP:20260422T075742
CREATED:20260420T154920Z
LAST-MODIFIED:20260421T171912Z
UID:10010706-1785747600-1785758400@www.anona.com
SUMMARY:What a Mess VBS
DESCRIPTION:Jesus loves messy people!\nWhat a Mess! VBS is about how Jesus deals with our messes; our sins\, mistakes\, and weaknesses. Seats are limited.
URL:https://www.anona.com/event/what-a-mess-vbs/
LOCATION:Anona Main: 110 – Classroom\, 125 – Youth Room\, 133 – Worship Center\, 117 – WC Expandable Room \, 312 – Anona Theater/Wesley Hall\, 118 – WC Expandable Room
END:VEVENT
BEGIN:VEVENT
DTSTART;TZID=America/New_York:20260804T090000
DTEND;TZID=America/New_York:20260804T120000
DTSTAMP:20260422T075742
CREATED:20260420T154920Z
LAST-MODIFIED:20260421T171912Z
UID:10010707-1785834000-1785844800@www.anona.com
SUMMARY:What a Mess VBS
DESCRIPTION:Jesus loves messy people!\nWhat a Mess! VBS is about how Jesus deals with our messes; our sins\, mistakes\, and weaknesses. Seats are limited.
URL:https://www.anona.com/event/what-a-mess-vbs-2/
LOCATION:Anona Main: 110 – Classroom\, 125 – Youth Room\, 133 – Worship Center\, 117 – WC Expandable Room \, 312 – Anona Theater/Wesley Hall\, 118 – WC Expandable Room
END:VEVENT
BEGIN:VEVENT
DTSTART;TZID=America/New_York:20260805T090000
DTEND;TZID=America/New_York:20260805T120000
DTSTAMP:20260422T075742
CREATED:20260420T154934Z
LAST-MODIFIED:20260421T171913Z
UID:10010708-1785920400-1785931200@www.anona.com
SUMMARY:What a Mess VBS
DESCRIPTION:Jesus loves messy people!\nWhat a Mess! VBS is about how Jesus deals with our messes; our sins\, mistakes\, and weaknesses. Seats are limited.
URL:https://www.anona.com/event/what-a-mess-vbs-3/
LOCATION:Anona Main: 110 – Classroom\, 125 – Youth Room\, 133 – Worship Center\, 117 – WC Expandable Room \, 312 – Anona Theater/Wesley Hall\, 118 – WC Expandable Room
END:VEVENT
BEGIN:VEVENT
DTSTART;TZID=America/New_York:20260806T090000
DTEND;TZID=America/New_York:20260806T120000
DTSTAMP:20260422T075742
CREATED:20260420T154934Z
LAST-MODIFIED:20260421T171913Z
UID:10010709-1786006800-1786017600@www.anona.com
SUMMARY:What a Mess VBS
DESCRIPTION:Jesus loves messy people!\nWhat a Mess! VBS is about how Jesus deals with our messes; our sins\, mistakes\, and weaknesses. Seats are limited.
URL:https://www.anona.com/event/what-a-mess-vbs-4/
LOCATION:Anona Main: 110 – Classroom\, 125 – Youth Room\, 133 – Worship Center\, 117 – WC Expandable Room \, 312 – Anona Theater/Wesley Hall\, 118 – WC Expandable Room
END:VEVENT
BEGIN:VEVENT
DTSTART;TZID=America/New_York:20260807T090000
DTEND;TZID=America/New_York:20260807T120000
DTSTAMP:20260422T075742
CREATED:20260420T154935Z
LAST-MODIFIED:20260421T171913Z
UID:10010710-1786093200-1786104000@www.anona.com
SUMMARY:What a Mess VBS
DESCRIPTION:Jesus loves messy people!\nWhat a Mess! VBS is about how Jesus deals with our messes; our sins\, mistakes\, and weaknesses. Seats are limited.
URL:https://www.anona.com/event/what-a-mess-vbs-5/
LOCATION:Anona Main: 110 – Classroom\, 125 – Youth Room\, 133 – Worship Center\, 117 – WC Expandable Room \, 312 – Anona Theater/Wesley Hall\, 118 – WC Expandable Room
END:VEVENT
END:VCALENDAR