BEGIN:VCALENDAR
VERSION:2.0
PRODID:-//Anona United Methodist Church - ECPv6.15.17//NONSGML v1.0//EN
CALSCALE:GREGORIAN
METHOD:PUBLISH
X-WR-CALNAME:Anona United Methodist Church
X-ORIGINAL-URL:https://www.anona.com
X-WR-CALDESC:Events for Anona United Methodist Church
REFRESH-INTERVAL;VALUE=DURATION:PT1H
X-Robots-Tag:noindex
X-PUBLISHED-TTL:PT1H
BEGIN:VTIMEZONE
TZID:America/New_York
BEGIN:DAYLIGHT
TZOFFSETFROM:-0500
TZOFFSETTO:-0400
TZNAME:EDT
DTSTART:20250309T070000
END:DAYLIGHT
BEGIN:STANDARD
TZOFFSETFROM:-0400
TZOFFSETTO:-0500
TZNAME:EST
DTSTART:20251102T060000
END:STANDARD
BEGIN:DAYLIGHT
TZOFFSETFROM:-0500
TZOFFSETTO:-0400
TZNAME:EDT
DTSTART:20260308T070000
END:DAYLIGHT
BEGIN:STANDARD
TZOFFSETFROM:-0400
TZOFFSETTO:-0500
TZNAME:EST
DTSTART:20261101T060000
END:STANDARD
BEGIN:DAYLIGHT
TZOFFSETFROM:-0500
TZOFFSETTO:-0400
TZNAME:EDT
DTSTART:20270314T070000
END:DAYLIGHT
BEGIN:STANDARD
TZOFFSETFROM:-0400
TZOFFSETTO:-0500
TZNAME:EST
DTSTART:20271107T060000
END:STANDARD
END:VTIMEZONE
BEGIN:VEVENT
DTSTART;TZID=America/New_York:20260731T183000
DTEND;TZID=America/New_York:20260801T083000
DTSTAMP:20260420T081312
CREATED:20260414T144726Z
LAST-MODIFIED:20260419T144856Z
UID:10010680-1785522600-1785573000@www.anona.com
SUMMARY:Summer Shenanigans Lock In Celebration Station
DESCRIPTION:Lock-in + Celebration Station – Summer Shenanigans \nFriday\, July 31st @ 6:30pm – Saturday\, August 1st @ 8:30am \nCost: $35 \nREGISTER HERE \nThere’s no better way to end the summer than with friends and a WHOLE night of fun! We're inviting all 6th-12th grade students for an evening packed with fun\, games\, and unforgettable memories. This year’s special outing is at Celebration Station! This includes pizza & drinks unlimited go-karts\, bumper boats\, laser tag plus unlimited video games! Expect tons of activities\, snacks\, and the chance to hang out with friends all night long. Don't miss this end-of-summer bash—it's going to be a blast!
URL:https://www.anona.com/event/summer-shenanigans-lock-in-celebration-station/
LOCATION:Anona Main: 125 – Youth Room\, 133 – Worship Center\, 131 – WC Cry Room\, 117 – WC Expandable Room \, 118 – WC Expandable Room \, 132 – WC Rear Expandable Room\, 111 – Fellowship Area (Main Lobby)
CATEGORIES:Youth Events
END:VEVENT
END:VCALENDAR