BEGIN:VCALENDAR
VERSION:2.0
PRODID:-//Anona United Methodist Church - ECPv6.15.17//NONSGML v1.0//EN
CALSCALE:GREGORIAN
METHOD:PUBLISH
X-ORIGINAL-URL:https://www.anona.com
X-WR-CALDESC:Events for Anona United Methodist Church
REFRESH-INTERVAL;VALUE=DURATION:PT1H
X-Robots-Tag:noindex
X-PUBLISHED-TTL:PT1H
BEGIN:VTIMEZONE
TZID:America/New_York
BEGIN:DAYLIGHT
TZOFFSETFROM:-0500
TZOFFSETTO:-0400
TZNAME:EDT
DTSTART:20260308T070000
END:DAYLIGHT
BEGIN:STANDARD
TZOFFSETFROM:-0400
TZOFFSETTO:-0500
TZNAME:EST
DTSTART:20261101T060000
END:STANDARD
BEGIN:DAYLIGHT
TZOFFSETFROM:-0500
TZOFFSETTO:-0400
TZNAME:EDT
DTSTART:20270314T070000
END:DAYLIGHT
BEGIN:STANDARD
TZOFFSETFROM:-0400
TZOFFSETTO:-0500
TZNAME:EST
DTSTART:20271107T060000
END:STANDARD
BEGIN:DAYLIGHT
TZOFFSETFROM:-0500
TZOFFSETTO:-0400
TZNAME:EDT
DTSTART:20280312T070000
END:DAYLIGHT
BEGIN:STANDARD
TZOFFSETFROM:-0400
TZOFFSETTO:-0500
TZNAME:EST
DTSTART:20281105T060000
END:STANDARD
END:VTIMEZONE
BEGIN:VEVENT
DTSTART;TZID=America/New_York:20270221T170000
DTEND;TZID=America/New_York:20270221T193000
DTSTAMP:20260422T044718
CREATED:20260221T073228Z
LAST-MODIFIED:20260407T043557Z
UID:10010098-1803229200-1803238200@www.anona.com
SUMMARY:Youth Group
DESCRIPTION:Anona Youth is a program for 6-12th grade students. Students are asked to check-in at our main Indian Rocks Road entrance. Anona Youth has a well designed program that allows freedom and a safe place to engage in any of our various activities: snacks\, free time\, games\, while bringing the whole together for worship led by our youth band and a group message followed by small group discussions. If you have any questions about our program\, please reach out to our Youth Director\, Megan Trunzo – megan@anona.com
URL:https://www.anona.com/event/youth-group-51/
LOCATION:Anona Main: 130 – Front Office\, 125 – Youth Room\, 131 – WC Cry Room\, 117 – WC Expandable Room \, 118 – WC Expandable Room \, 132 – WC Rear Expandable Room
END:VEVENT
BEGIN:VEVENT
DTSTART;TZID=America/New_York:20270228T170000
DTEND;TZID=America/New_York:20270228T193000
DTSTAMP:20260422T044718
CREATED:20260305T081936Z
LAST-MODIFIED:20260407T043611Z
UID:10010153-1803834000-1803843000@www.anona.com
SUMMARY:Youth Group
DESCRIPTION:Anona Youth is a program for 6-12th grade students. Students are asked to check-in at our main Indian Rocks Road entrance. Anona Youth has a well designed program that allows freedom and a safe place to engage in any of our various activities: snacks\, free time\, games\, while bringing the whole together for worship led by our youth band and a group message followed by small group discussions. If you have any questions about our program\, please reach out to our Youth Director\, Megan Trunzo – megan@anona.com
URL:https://www.anona.com/event/youth-group-52/
LOCATION:Anona Main: 130 – Front Office\, 125 – Youth Room\, 131 – WC Cry Room\, 117 – WC Expandable Room \, 118 – WC Expandable Room \, 132 – WC Rear Expandable Room
END:VEVENT
BEGIN:VEVENT
DTSTART;TZID=America/New_York:20270307T170000
DTEND;TZID=America/New_York:20270307T193000
DTSTAMP:20260422T044718
CREATED:20260307T061731Z
LAST-MODIFIED:20260407T043612Z
UID:10010171-1804438800-1804447800@www.anona.com
SUMMARY:Youth Group
DESCRIPTION:Anona Youth is a program for 6-12th grade students. Students are asked to check-in at our main Indian Rocks Road entrance. Anona Youth has a well designed program that allows freedom and a safe place to engage in any of our various activities: snacks\, free time\, games\, while bringing the whole together for worship led by our youth band and a group message followed by small group discussions. If you have any questions about our program\, please reach out to our Youth Director\, Megan Trunzo – megan@anona.com
URL:https://www.anona.com/event/youth-group-53/
LOCATION:Anona Main: 130 – Front Office\, 125 – Youth Room\, 131 – WC Cry Room\, 117 – WC Expandable Room \, 118 – WC Expandable Room \, 132 – WC Rear Expandable Room
END:VEVENT
BEGIN:VEVENT
DTSTART;TZID=America/New_York:20270314T170000
DTEND;TZID=America/New_York:20270314T193000
DTSTAMP:20260422T044718
CREATED:20260314T050302Z
LAST-MODIFIED:20260407T043613Z
UID:10010221-1805043600-1805052600@www.anona.com
SUMMARY:Youth Group
DESCRIPTION:Anona Youth is a program for 6-12th grade students. Students are asked to check-in at our main Indian Rocks Road entrance. Anona Youth has a well designed program that allows freedom and a safe place to engage in any of our various activities: snacks\, free time\, games\, while bringing the whole together for worship led by our youth band and a group message followed by small group discussions. If you have any questions about our program\, please reach out to our Youth Director\, Megan Trunzo – megan@anona.com
URL:https://www.anona.com/event/youth-group-54/
LOCATION:Anona Main: 130 – Front Office\, 125 – Youth Room\, 131 – WC Cry Room\, 117 – WC Expandable Room \, 118 – WC Expandable Room \, 132 – WC Rear Expandable Room
END:VEVENT
BEGIN:VEVENT
DTSTART;TZID=America/New_York:20270321T170000
DTEND;TZID=America/New_York:20270321T193000
DTSTAMP:20260422T044718
CREATED:20260321T051742Z
LAST-MODIFIED:20260407T043628Z
UID:10010321-1805648400-1805657400@www.anona.com
SUMMARY:Youth Group
DESCRIPTION:Anona Youth is a program for 6-12th grade students. Students are asked to check-in at our main Indian Rocks Road entrance. Anona Youth has a well designed program that allows freedom and a safe place to engage in any of our various activities: snacks\, free time\, games\, while bringing the whole together for worship led by our youth band and a group message followed by small group discussions. If you have any questions about our program\, please reach out to our Youth Director\, Megan Trunzo – megan@anona.com
URL:https://www.anona.com/event/youth-group-55/
LOCATION:Anona Main: 130 – Front Office\, 125 – Youth Room\, 131 – WC Cry Room\, 117 – WC Expandable Room \, 118 – WC Expandable Room \, 132 – WC Rear Expandable Room
END:VEVENT
BEGIN:VEVENT
DTSTART;TZID=America/New_York:20270328T170000
DTEND;TZID=America/New_York:20270328T193000
DTSTAMP:20260422T044718
CREATED:20260328T053244Z
LAST-MODIFIED:20260407T043628Z
UID:10010337-1806253200-1806262200@www.anona.com
SUMMARY:Youth Group
DESCRIPTION:Anona Youth is a program for 6-12th grade students. Students are asked to check-in at our main Indian Rocks Road entrance. Anona Youth has a well designed program that allows freedom and a safe place to engage in any of our various activities: snacks\, free time\, games\, while bringing the whole together for worship led by our youth band and a group message followed by small group discussions. If you have any questions about our program\, please reach out to our Youth Director\, Megan Trunzo – megan@anona.com
URL:https://www.anona.com/event/youth-group-56/
LOCATION:Anona Main: 130 – Front Office\, 125 – Youth Room\, 131 – WC Cry Room\, 117 – WC Expandable Room \, 118 – WC Expandable Room \, 132 – WC Rear Expandable Room
END:VEVENT
BEGIN:VEVENT
DTSTART;TZID=America/New_York:20270404T170000
DTEND;TZID=America/New_York:20270404T193000
DTSTAMP:20260422T044718
CREATED:20260404T103248Z
LAST-MODIFIED:20260407T043629Z
UID:10010366-1806858000-1806867000@www.anona.com
SUMMARY:Youth Group
DESCRIPTION:Anona Youth is a program for 6-12th grade students. Students are asked to check-in at our main Indian Rocks Road entrance. Anona Youth has a well designed program that allows freedom and a safe place to engage in any of our various activities: snacks\, free time\, games\, while bringing the whole together for worship led by our youth band and a group message followed by small group discussions. If you have any questions about our program\, please reach out to our Youth Director\, Megan Trunzo – megan@anona.com
URL:https://www.anona.com/event/youth-group-57/
LOCATION:Anona Main: 130 – Front Office\, 125 – Youth Room\, 131 – WC Cry Room\, 117 – WC Expandable Room \, 118 – WC Expandable Room \, 132 – WC Rear Expandable Room
END:VEVENT
BEGIN:VEVENT
DTSTART;TZID=America/New_York:20270411T170000
DTEND;TZID=America/New_York:20270411T193000
DTSTAMP:20260422T044718
CREATED:20260411T041919Z
LAST-MODIFIED:20260411T041920Z
UID:10010661-1807462800-1807471800@www.anona.com
SUMMARY:Youth Group
DESCRIPTION:Anona Youth is a program for 6-12th grade students. Students are asked to check-in at our main Indian Rocks Road entrance. Anona Youth has a well designed program that allows freedom and a safe place to engage in any of our various activities: snacks\, free time\, games\, while bringing the whole together for worship led by our youth band and a group message followed by small group discussions. If you have any questions about our program\, please reach out to our Youth Director\, Megan Trunzo – megan@anona.com
URL:https://www.anona.com/event/youth-group-58/
LOCATION:Anona Main: 130 – Front Office\, 125 – Youth Room\, 131 – WC Cry Room\, 117 – WC Expandable Room \, 118 – WC Expandable Room \, 132 – WC Rear Expandable Room
END:VEVENT
BEGIN:VEVENT
DTSTART;TZID=America/New_York:20270418T170000
DTEND;TZID=America/New_York:20270418T193000
DTSTAMP:20260422T044718
CREATED:20260418T043310Z
LAST-MODIFIED:20260418T043310Z
UID:10010689-1808067600-1808076600@www.anona.com
SUMMARY:Youth Group
DESCRIPTION:Anona Youth is a program for 6-12th grade students. Students are asked to check-in at our main Indian Rocks Road entrance. Anona Youth has a well designed program that allows freedom and a safe place to engage in any of our various activities: snacks\, free time\, games\, while bringing the whole together for worship led by our youth band and a group message followed by small group discussions. If you have any questions about our program\, please reach out to our Youth Director\, Megan Trunzo – megan@anona.com
URL:https://www.anona.com/event/youth-group-59/
LOCATION:Anona Main: 130 – Front Office\, 125 – Youth Room\, 131 – WC Cry Room\, 117 – WC Expandable Room \, 118 – WC Expandable Room \, 132 – WC Rear Expandable Room
END:VEVENT
END:VCALENDAR