BEGIN:VCALENDAR
VERSION:2.0
PRODID:-//Anona United Methodist Church - ECPv6.15.17//NONSGML v1.0//EN
CALSCALE:GREGORIAN
METHOD:PUBLISH
X-ORIGINAL-URL:https://www.anona.com
X-WR-CALDESC:Events for Anona United Methodist Church
REFRESH-INTERVAL;VALUE=DURATION:PT1H
X-Robots-Tag:noindex
X-PUBLISHED-TTL:PT1H
BEGIN:VTIMEZONE
TZID:America/New_York
BEGIN:DAYLIGHT
TZOFFSETFROM:-0500
TZOFFSETTO:-0400
TZNAME:EDT
DTSTART:20250309T070000
END:DAYLIGHT
BEGIN:STANDARD
TZOFFSETFROM:-0400
TZOFFSETTO:-0500
TZNAME:EST
DTSTART:20251102T060000
END:STANDARD
BEGIN:DAYLIGHT
TZOFFSETFROM:-0500
TZOFFSETTO:-0400
TZNAME:EDT
DTSTART:20260308T070000
END:DAYLIGHT
BEGIN:STANDARD
TZOFFSETFROM:-0400
TZOFFSETTO:-0500
TZNAME:EST
DTSTART:20261101T060000
END:STANDARD
BEGIN:DAYLIGHT
TZOFFSETFROM:-0500
TZOFFSETTO:-0400
TZNAME:EDT
DTSTART:20270314T070000
END:DAYLIGHT
BEGIN:STANDARD
TZOFFSETFROM:-0400
TZOFFSETTO:-0500
TZNAME:EST
DTSTART:20271107T060000
END:STANDARD
END:VTIMEZONE
BEGIN:VEVENT
DTSTART;TZID=America/New_York:20260423T183000
DTEND;TZID=America/New_York:20260423T200000
DTSTAMP:20260423T060627
CREATED:20260420T170252Z
LAST-MODIFIED:20260420T170253Z
UID:10010711-1776969000-1776974400@www.anona.com
SUMMARY:Presentation on Dementia & Alzheimers
DESCRIPTION:This 90 minute presentation by Mary Biondo will cover information on Dementia and Alzheimer’s. It will cover some of the signs\, risk factors\, progression\, insurance\, resources as well as caregiver support! If you know someone who struggles with this or if you are a caregiver or just want to learn more\, please join us for this event!
URL:https://www.anona.com/event/presentation-on-dementia-alzheimers/
LOCATION:Anona Main: 312 – Anona Theater/Wesley Hall
END:VEVENT
BEGIN:VEVENT
DTSTART;TZID=America/New_York:20260428T180000
DTEND;TZID=America/New_York:20260428T200000
DTSTAMP:20260423T060627
CREATED:20260408T134807Z
LAST-MODIFIED:20260408T151740Z
UID:10010435-1777399200-1777406400@www.anona.com
SUMMARY:Sew for Kids
DESCRIPTION:Sew for Kids volunteers create dresses and shorts for children\, both locally and abroad. Volunteers meet together for a variety of tasks: ironing fabric and iron-on labels\, cutting fabric using patterns\, measuring and cutting elastic and bias tape\, assembling kits for folks to sew at home\, and sewing dresses and shorts from the kits. Whether in a workshop at the church or sewing at home\, this work makes a significant difference in the lives of these children. We have one evening and one afternoon workshop per month and kits are available for sew at home by request. Contact: Molly Schaaf  mfschaaf@aol.com
URL:https://www.anona.com/event/sew-for-kids/
LOCATION:Anona Main: 312 – Anona Theater/Wesley Hall
END:VEVENT
BEGIN:VEVENT
DTSTART;TZID=America/New_York:20260429T090000
DTEND;TZID=America/New_York:20260429T092900
DTSTAMP:20260423T060627
CREATED:20260408T134807Z
LAST-MODIFIED:20260408T151740Z
UID:10010436-1777453200-1777454940@www.anona.com
SUMMARY:Walk15® with Molly
DESCRIPTION:Walk15® with Molly \nA heart-pumping\, calorie torching aerobic workout\, Walk15® is the group exercise version of Leslie Sansone’s ‘Walk at Home’ video programs. Easy to follow\, adaptable to all levels of fitness\, our 30 minute workout is equivalent to a 2 mile walk. Those 15 minute miles add up to an effective workout for “all walks of life”!  Dress comfortably with athletic shoes\, bring your water bottle\, and join us in the Worship Center Wednesdays at 9AM. Molly Schaaf  walklivewithmolly@gmail.com
URL:https://www.anona.com/event/walk15-with-molly-18/
LOCATION:Anona Main: 312 – Anona Theater/Wesley Hall
END:VEVENT
BEGIN:VEVENT
DTSTART;TZID=America/New_York:20260429T093000
DTEND;TZID=America/New_York:20260429T130000
DTSTAMP:20260423T060627
CREATED:20260408T134807Z
LAST-MODIFIED:20260408T151740Z
UID:10010437-1777455000-1777467600@www.anona.com
SUMMARY:Sew n' Sews
DESCRIPTION:If you are interested in participating in a ministry that creates hope in the form of quilts\, contact Peggy Junkin or Pat Juds.  Sew n' Sews meet on Wednesdays in Wesley Hall at 9:30am.\nNo sewing experience required.
URL:https://www.anona.com/event/sew-n-sews-14/
LOCATION:Anona Main: 312 – Anona Theater/Wesley Hall
END:VEVENT
BEGIN:VEVENT
DTSTART;TZID=America/New_York:20260429T130000
DTEND;TZID=America/New_York:20260429T150000
DTSTAMP:20260423T060627
CREATED:20260408T134808Z
LAST-MODIFIED:20260408T151740Z
UID:10010438-1777467600-1777474800@www.anona.com
SUMMARY:Sew for Kids
DESCRIPTION:Sew for Kids volunteers create dresses and shorts for children\, both locally and abroad. Volunteers meet together for a variety of tasks: ironing fabric and iron-on labels\, cutting fabric using patterns\, measuring and cutting elastic and bias tape\, assembling kits for folks to sew at home\, and sewing dresses and shorts from the kits. Whether in a workshop at the church or sewing at home\, this work makes a significant difference in the lives of these children. We have one evening and one afternoon workshop per month and kits are available for sew at home by request. Contact: Molly Schaaf  mfschaaf@aol.com
URL:https://www.anona.com/event/sew-for-kids-2/
LOCATION:Anona Main: 312 – Anona Theater/Wesley Hall
END:VEVENT
BEGIN:VEVENT
DTSTART;TZID=America/New_York:20260505T180000
DTEND;TZID=America/New_York:20260505T200000
DTSTAMP:20260423T060627
CREATED:20260309T173241Z
LAST-MODIFIED:20260311T150311Z
UID:10010179-1778004000-1778011200@www.anona.com
SUMMARY:Art & Soul
DESCRIPTION:Join us for open crafting\, lessons\, and an opportunity to serve our military and seniors. No experience is required; this is a space to gather\, create\, learn\, and grow. Participants are encouraged to bring an open heart and a personal craft box (scissors\, yarn\, ribbon\, lace\, glue\, buttons\, paper\, etc.)\, though general supplies will also be provided. Artandsoulanona@gmail.com \nMeet in Wesley Hall on the 1st & 3rd Tuesdays of the month.\nEnter through entrance B Family Ministry off Wilcox Road\, to reach Wesley Hall.
URL:https://www.anona.com/event/art-soul-55/
LOCATION:Anona Main: 312 – Anona Theater/Wesley Hall
END:VEVENT
BEGIN:VEVENT
DTSTART;TZID=America/New_York:20260506T090000
DTEND;TZID=America/New_York:20260506T092900
DTSTAMP:20260423T060627
CREATED:20260408T134835Z
LAST-MODIFIED:20260408T151809Z
UID:10010452-1778058000-1778059740@www.anona.com
SUMMARY:Walk15® with Molly
DESCRIPTION:Walk15® with Molly \nA heart-pumping\, calorie torching aerobic workout\, Walk15® is the group exercise version of Leslie Sansone’s ‘Walk at Home’ video programs. Easy to follow\, adaptable to all levels of fitness\, our 30 minute workout is equivalent to a 2 mile walk. Those 15 minute miles add up to an effective workout for “all walks of life”!  Dress comfortably with athletic shoes\, bring your water bottle\, and join us in the Worship Center Wednesdays at 9AM. Molly Schaaf  walklivewithmolly@gmail.com
URL:https://www.anona.com/event/walk15-with-molly-19/
LOCATION:Anona Main: 312 – Anona Theater/Wesley Hall
END:VEVENT
BEGIN:VEVENT
DTSTART;TZID=America/New_York:20260506T093000
DTEND;TZID=America/New_York:20260506T130000
DTSTAMP:20260423T060627
CREATED:20260408T134836Z
LAST-MODIFIED:20260408T151809Z
UID:10010453-1778059800-1778072400@www.anona.com
SUMMARY:Sew n' Sews
DESCRIPTION:If you are interested in participating in a ministry that creates hope in the form of quilts\, contact Peggy Junkin or Pat Juds.  Sew n' Sews meet on Wednesdays in Wesley Hall at 9:30am.\nNo sewing experience required.
URL:https://www.anona.com/event/sew-n-sews-15/
LOCATION:Anona Main: 312 – Anona Theater/Wesley Hall
END:VEVENT
BEGIN:VEVENT
DTSTART;TZID=America/New_York:20260513T090000
DTEND;TZID=America/New_York:20260513T092900
DTSTAMP:20260423T060627
CREATED:20260408T134906Z
LAST-MODIFIED:20260408T151838Z
UID:10010471-1778662800-1778664540@www.anona.com
SUMMARY:Walk15® with Molly
DESCRIPTION:Walk15® with Molly \nA heart-pumping\, calorie torching aerobic workout\, Walk15® is the group exercise version of Leslie Sansone’s ‘Walk at Home’ video programs. Easy to follow\, adaptable to all levels of fitness\, our 30 minute workout is equivalent to a 2 mile walk. Those 15 minute miles add up to an effective workout for “all walks of life”!  Dress comfortably with athletic shoes\, bring your water bottle\, and join us in the Worship Center Wednesdays at 9AM. Molly Schaaf  walklivewithmolly@gmail.com
URL:https://www.anona.com/event/walk15-with-molly-20/
LOCATION:Anona Main: 312 – Anona Theater/Wesley Hall
END:VEVENT
BEGIN:VEVENT
DTSTART;TZID=America/New_York:20260513T093000
DTEND;TZID=America/New_York:20260513T130000
DTSTAMP:20260423T060627
CREATED:20260408T134906Z
LAST-MODIFIED:20260408T151838Z
UID:10010472-1778664600-1778677200@www.anona.com
SUMMARY:Sew n' Sews
DESCRIPTION:If you are interested in participating in a ministry that creates hope in the form of quilts\, contact Peggy Junkin or Pat Juds.  Sew n' Sews meet on Wednesdays in Wesley Hall at 9:30am.\nNo sewing experience required.
URL:https://www.anona.com/event/sew-n-sews-16/
LOCATION:Anona Main: 312 – Anona Theater/Wesley Hall
END:VEVENT
BEGIN:VEVENT
DTSTART;TZID=America/New_York:20260516T130000
DTEND;TZID=America/New_York:20260516T150000
DTSTAMP:20260423T060627
CREATED:20260417T161723Z
LAST-MODIFIED:20260417T161723Z
UID:10010686-1778936400-1778943600@www.anona.com
SUMMARY:Sacred Sweetness
DESCRIPTION:This is About Gods Grace and Chocolate Tasting
URL:https://www.anona.com/event/sacred-sweetness/
LOCATION:Anona Main: 312 – Anona Theater/Wesley Hall
END:VEVENT
BEGIN:VEVENT
DTSTART;TZID=America/New_York:20260518T180000
DTEND;TZID=America/New_York:20260518T200000
DTSTAMP:20260423T060627
CREATED:20260408T134922Z
LAST-MODIFIED:20260408T151852Z
UID:10010485-1779127200-1779134400@www.anona.com
SUMMARY:Anona's Micah Project
DESCRIPTION:Anona’s Micah Project (AMP) Social Justice group\, meets every 3rd Monday to work on action steps to better our community and our world. Micah 6:8 And what does the Lord require of you? To act justly\, Love mercy and walk humbly with your God.
URL:https://www.anona.com/event/anonas-micah-project-3/
LOCATION:Anona Main: 312 – Anona Theater/Wesley Hall
END:VEVENT
BEGIN:VEVENT
DTSTART;TZID=America/New_York:20260519T180000
DTEND;TZID=America/New_York:20260519T200000
DTSTAMP:20260423T060627
CREATED:20260309T173242Z
LAST-MODIFIED:20260311T150418Z
UID:10010180-1779213600-1779220800@www.anona.com
SUMMARY:Art & Soul
DESCRIPTION:Join us for open crafting\, lessons\, and an opportunity to serve our military and seniors. No experience is required; this is a space to gather\, create\, learn\, and grow. Participants are encouraged to bring an open heart and a personal craft box (scissors\, yarn\, ribbon\, lace\, glue\, buttons\, paper\, etc.)\, though general supplies will also be provided. Artandsoulanona@gmail.com \nMeet in Wesley Hall on the 1st & 3rd Tuesdays of the month.\nEnter through entrance B Family Ministry off Wilcox Road\, to reach Wesley Hall.
URL:https://www.anona.com/event/art-soul-56/
LOCATION:Anona Main: 312 – Anona Theater/Wesley Hall
END:VEVENT
BEGIN:VEVENT
DTSTART;TZID=America/New_York:20260520T090000
DTEND;TZID=America/New_York:20260520T092900
DTSTAMP:20260423T060627
CREATED:20260408T134922Z
LAST-MODIFIED:20260408T151853Z
UID:10010486-1779267600-1779269340@www.anona.com
SUMMARY:Walk15® with Molly
DESCRIPTION:Walk15® with Molly \nA heart-pumping\, calorie torching aerobic workout\, Walk15® is the group exercise version of Leslie Sansone’s ‘Walk at Home’ video programs. Easy to follow\, adaptable to all levels of fitness\, our 30 minute workout is equivalent to a 2 mile walk. Those 15 minute miles add up to an effective workout for “all walks of life”!  Dress comfortably with athletic shoes\, bring your water bottle\, and join us in the Worship Center Wednesdays at 9AM. Molly Schaaf  walklivewithmolly@gmail.com
URL:https://www.anona.com/event/walk15-with-molly-21/
LOCATION:Anona Main: 312 – Anona Theater/Wesley Hall
END:VEVENT
BEGIN:VEVENT
DTSTART;TZID=America/New_York:20260520T093000
DTEND;TZID=America/New_York:20260520T130000
DTSTAMP:20260423T060627
CREATED:20260408T134923Z
LAST-MODIFIED:20260408T151853Z
UID:10010487-1779269400-1779282000@www.anona.com
SUMMARY:Sew n' Sews
DESCRIPTION:If you are interested in participating in a ministry that creates hope in the form of quilts\, contact Peggy Junkin or Pat Juds.  Sew n' Sews meet on Wednesdays in Wesley Hall at 9:30am.\nNo sewing experience required.
URL:https://www.anona.com/event/sew-n-sews-17/
LOCATION:Anona Main: 312 – Anona Theater/Wesley Hall
END:VEVENT
BEGIN:VEVENT
DTSTART;TZID=America/New_York:20260526T180000
DTEND;TZID=America/New_York:20260526T200000
DTSTAMP:20260423T060627
CREATED:20260408T134951Z
LAST-MODIFIED:20260408T151919Z
UID:10010501-1779818400-1779825600@www.anona.com
SUMMARY:Sew for Kids
DESCRIPTION:Sew for Kids volunteers create dresses and shorts for children\, both locally and abroad. Volunteers meet together for a variety of tasks: ironing fabric and iron-on labels\, cutting fabric using patterns\, measuring and cutting elastic and bias tape\, assembling kits for folks to sew at home\, and sewing dresses and shorts from the kits. Whether in a workshop at the church or sewing at home\, this work makes a significant difference in the lives of these children. We have one evening and one afternoon workshop per month and kits are available for sew at home by request. Contact: Molly Schaaf  mfschaaf@aol.com
URL:https://www.anona.com/event/sew-for-kids-3/
LOCATION:Anona Main: 312 – Anona Theater/Wesley Hall
END:VEVENT
BEGIN:VEVENT
DTSTART;TZID=America/New_York:20260527T090000
DTEND;TZID=America/New_York:20260527T092900
DTSTAMP:20260423T060627
CREATED:20260408T134952Z
LAST-MODIFIED:20260408T151919Z
UID:10010502-1779872400-1779874140@www.anona.com
SUMMARY:Walk15® with Molly
DESCRIPTION:Walk15® with Molly \nA heart-pumping\, calorie torching aerobic workout\, Walk15® is the group exercise version of Leslie Sansone’s ‘Walk at Home’ video programs. Easy to follow\, adaptable to all levels of fitness\, our 30 minute workout is equivalent to a 2 mile walk. Those 15 minute miles add up to an effective workout for “all walks of life”!  Dress comfortably with athletic shoes\, bring your water bottle\, and join us in the Worship Center Wednesdays at 9AM. Molly Schaaf  walklivewithmolly@gmail.com
URL:https://www.anona.com/event/walk15-with-molly-22/
LOCATION:Anona Main: 312 – Anona Theater/Wesley Hall
END:VEVENT
BEGIN:VEVENT
DTSTART;TZID=America/New_York:20260527T093000
DTEND;TZID=America/New_York:20260527T130000
DTSTAMP:20260423T060627
CREATED:20260408T134952Z
LAST-MODIFIED:20260408T151920Z
UID:10010504-1779874200-1779886800@www.anona.com
SUMMARY:Sew n' Sews
DESCRIPTION:If you are interested in participating in a ministry that creates hope in the form of quilts\, contact Peggy Junkin or Pat Juds.  Sew n' Sews meet on Wednesdays in Wesley Hall at 9:30am.\nNo sewing experience required.
URL:https://www.anona.com/event/sew-n-sews-18/
LOCATION:Anona Main: 312 – Anona Theater/Wesley Hall
END:VEVENT
BEGIN:VEVENT
DTSTART;TZID=America/New_York:20260527T130000
DTEND;TZID=America/New_York:20260527T150000
DTSTAMP:20260423T060627
CREATED:20260408T134952Z
LAST-MODIFIED:20260408T151920Z
UID:10010503-1779886800-1779894000@www.anona.com
SUMMARY:Sew for Kids
DESCRIPTION:Sew for Kids volunteers create dresses and shorts for children\, both locally and abroad. Volunteers meet together for a variety of tasks: ironing fabric and iron-on labels\, cutting fabric using patterns\, measuring and cutting elastic and bias tape\, assembling kits for folks to sew at home\, and sewing dresses and shorts from the kits. Whether in a workshop at the church or sewing at home\, this work makes a significant difference in the lives of these children. We have one evening and one afternoon workshop per month and kits are available for sew at home by request. Contact: Molly Schaaf  mfschaaf@aol.com
URL:https://www.anona.com/event/sew-for-kids-4/
LOCATION:Anona Main: 312 – Anona Theater/Wesley Hall
END:VEVENT
BEGIN:VEVENT
DTSTART;TZID=America/New_York:20260602T180000
DTEND;TZID=America/New_York:20260602T200000
DTSTAMP:20260423T060627
CREATED:20260309T173242Z
LAST-MODIFIED:20260311T150514Z
UID:10010181-1780423200-1780430400@www.anona.com
SUMMARY:Art & Soul
DESCRIPTION:Join us for open crafting\, lessons\, and an opportunity to serve our military and seniors. No experience is required; this is a space to gather\, create\, learn\, and grow. Participants are encouraged to bring an open heart and a personal craft box (scissors\, yarn\, ribbon\, lace\, glue\, buttons\, paper\, etc.)\, though general supplies will also be provided. Artandsoulanona@gmail.com \nMeet in Wesley Hall on the 1st & 3rd Tuesdays of the month.\nEnter through entrance B Family Ministry off Wilcox Road\, to reach Wesley Hall.
URL:https://www.anona.com/event/art-soul-57/
LOCATION:Anona Main: 312 – Anona Theater/Wesley Hall
END:VEVENT
BEGIN:VEVENT
DTSTART;TZID=America/New_York:20260603T090000
DTEND;TZID=America/New_York:20260603T092900
DTSTAMP:20260423T060627
CREATED:20260408T135008Z
LAST-MODIFIED:20260408T151935Z
UID:10010518-1780477200-1780478940@www.anona.com
SUMMARY:Walk15® with Molly
DESCRIPTION:Walk15® with Molly \nA heart-pumping\, calorie torching aerobic workout\, Walk15® is the group exercise version of Leslie Sansone’s ‘Walk at Home’ video programs. Easy to follow\, adaptable to all levels of fitness\, our 30 minute workout is equivalent to a 2 mile walk. Those 15 minute miles add up to an effective workout for “all walks of life”!  Dress comfortably with athletic shoes\, bring your water bottle\, and join us in the Worship Center Wednesdays at 9AM. Molly Schaaf  walklivewithmolly@gmail.com
URL:https://www.anona.com/event/walk15-with-molly-23/
LOCATION:Anona Main: 312 – Anona Theater/Wesley Hall
END:VEVENT
BEGIN:VEVENT
DTSTART;TZID=America/New_York:20260603T093000
DTEND;TZID=America/New_York:20260603T130000
DTSTAMP:20260423T060627
CREATED:20260408T135020Z
LAST-MODIFIED:20260408T151947Z
UID:10010519-1780479000-1780491600@www.anona.com
SUMMARY:Sew n' Sews
DESCRIPTION:If you are interested in participating in a ministry that creates hope in the form of quilts\, contact Peggy Junkin or Pat Juds.  Sew n' Sews meet on Wednesdays in Wesley Hall at 9:30am.\nNo sewing experience required.
URL:https://www.anona.com/event/sew-n-sews-19/
LOCATION:Anona Main: 312 – Anona Theater/Wesley Hall
END:VEVENT
BEGIN:VEVENT
DTSTART;TZID=America/New_York:20260610T090000
DTEND;TZID=America/New_York:20260610T092900
DTSTAMP:20260423T060627
CREATED:20260408T135038Z
LAST-MODIFIED:20260408T152004Z
UID:10010535-1781082000-1781083740@www.anona.com
SUMMARY:Walk15® with Molly
DESCRIPTION:Walk15® with Molly \nA heart-pumping\, calorie torching aerobic workout\, Walk15® is the group exercise version of Leslie Sansone’s ‘Walk at Home’ video programs. Easy to follow\, adaptable to all levels of fitness\, our 30 minute workout is equivalent to a 2 mile walk. Those 15 minute miles add up to an effective workout for “all walks of life”!  Dress comfortably with athletic shoes\, bring your water bottle\, and join us in the Worship Center Wednesdays at 9AM. Molly Schaaf  walklivewithmolly@gmail.com
URL:https://www.anona.com/event/walk15-with-molly-24/
LOCATION:Anona Main: 312 – Anona Theater/Wesley Hall
END:VEVENT
BEGIN:VEVENT
DTSTART;TZID=America/New_York:20260610T093000
DTEND;TZID=America/New_York:20260610T130000
DTSTAMP:20260423T060627
CREATED:20260408T135039Z
LAST-MODIFIED:20260408T152005Z
UID:10010536-1781083800-1781096400@www.anona.com
SUMMARY:Sew n' Sews
DESCRIPTION:If you are interested in participating in a ministry that creates hope in the form of quilts\, contact Peggy Junkin or Pat Juds.  Sew n' Sews meet on Wednesdays in Wesley Hall at 9:30am.\nNo sewing experience required.
URL:https://www.anona.com/event/sew-n-sews-20/
LOCATION:Anona Main: 312 – Anona Theater/Wesley Hall
END:VEVENT
BEGIN:VEVENT
DTSTART;TZID=America/New_York:20260615T180000
DTEND;TZID=America/New_York:20260615T200000
DTSTAMP:20260423T060627
CREATED:20260408T152841Z
LAST-MODIFIED:20260408T152841Z
UID:10010550-1781546400-1781553600@www.anona.com
SUMMARY:Anona's Micah Project
DESCRIPTION:Anona’s Micah Project (AMP) Social Justice group\, meets every 3rd Monday to work on action steps to better our community and our world. Micah 6:8 And what does the Lord require of you? To act justly\, Love mercy and walk humbly with your God.
URL:https://www.anona.com/event/anonas-micah-project-4/
LOCATION:Anona Main: 312 – Anona Theater/Wesley Hall
END:VEVENT
BEGIN:VEVENT
DTSTART;TZID=America/New_York:20260616T180000
DTEND;TZID=America/New_York:20260616T200000
DTSTAMP:20260423T060627
CREATED:20260309T173242Z
LAST-MODIFIED:20260311T181750Z
UID:10010182-1781632800-1781640000@www.anona.com
SUMMARY:Art & Soul
DESCRIPTION:Join us for open crafting\, lessons\, and an opportunity to serve our military and seniors. No experience is required; this is a space to gather\, create\, learn\, and grow. Participants are encouraged to bring an open heart and a personal craft box (scissors\, yarn\, ribbon\, lace\, glue\, buttons\, paper\, etc.)\, though general supplies will also be provided. Artandsoulanona@gmail.com \nMeet in Wesley Hall on the 1st & 3rd Tuesdays of the month.\nEnter through entrance B Family Ministry off Wilcox Road\, to reach Wesley Hall.
URL:https://www.anona.com/event/art-soul-58/
LOCATION:Anona Main: 312 – Anona Theater/Wesley Hall
END:VEVENT
BEGIN:VEVENT
DTSTART;TZID=America/New_York:20260617T090000
DTEND;TZID=America/New_York:20260617T092900
DTSTAMP:20260423T060627
CREATED:20260408T152841Z
LAST-MODIFIED:20260408T152841Z
UID:10010551-1781686800-1781688540@www.anona.com
SUMMARY:Walk15® with Molly
DESCRIPTION:Walk15® with Molly \nA heart-pumping\, calorie torching aerobic workout\, Walk15® is the group exercise version of Leslie Sansone’s ‘Walk at Home’ video programs. Easy to follow\, adaptable to all levels of fitness\, our 30 minute workout is equivalent to a 2 mile walk. Those 15 minute miles add up to an effective workout for “all walks of life”!  Dress comfortably with athletic shoes\, bring your water bottle\, and join us in the Worship Center Wednesdays at 9AM. Molly Schaaf  walklivewithmolly@gmail.com
URL:https://www.anona.com/event/walk15-with-molly-25/
LOCATION:Anona Main: 312 – Anona Theater/Wesley Hall
END:VEVENT
BEGIN:VEVENT
DTSTART;TZID=America/New_York:20260617T093000
DTEND;TZID=America/New_York:20260617T130000
DTSTAMP:20260423T060627
CREATED:20260408T152841Z
LAST-MODIFIED:20260408T152841Z
UID:10010552-1781688600-1781701200@www.anona.com
SUMMARY:Sew n' Sews
DESCRIPTION:If you are interested in participating in a ministry that creates hope in the form of quilts\, contact Peggy Junkin or Pat Juds.  Sew n' Sews meet on Wednesdays in Wesley Hall at 9:30am.\nNo sewing experience required.
URL:https://www.anona.com/event/sew-n-sews-21/
LOCATION:Anona Main: 312 – Anona Theater/Wesley Hall
END:VEVENT
BEGIN:VEVENT
DTSTART;TZID=America/New_York:20260623T180000
DTEND;TZID=America/New_York:20260623T200000
DTSTAMP:20260423T060627
CREATED:20260408T152858Z
LAST-MODIFIED:20260408T152858Z
UID:10010566-1782237600-1782244800@www.anona.com
SUMMARY:Sew for Kids
DESCRIPTION:Sew for Kids volunteers create dresses and shorts for children\, both locally and abroad. Volunteers meet together for a variety of tasks: ironing fabric and iron-on labels\, cutting fabric using patterns\, measuring and cutting elastic and bias tape\, assembling kits for folks to sew at home\, and sewing dresses and shorts from the kits. Whether in a workshop at the church or sewing at home\, this work makes a significant difference in the lives of these children. We have one evening and one afternoon workshop per month and kits are available for sew at home by request. Contact: Molly Schaaf  mfschaaf@aol.com
URL:https://www.anona.com/event/sew-for-kids-5/
LOCATION:Anona Main: 312 – Anona Theater/Wesley Hall
END:VEVENT
BEGIN:VEVENT
DTSTART;TZID=America/New_York:20260624T090000
DTEND;TZID=America/New_York:20260624T092900
DTSTAMP:20260423T060627
CREATED:20260408T152858Z
LAST-MODIFIED:20260408T152858Z
UID:10010567-1782291600-1782293340@www.anona.com
SUMMARY:Walk15® with Molly
DESCRIPTION:Walk15® with Molly \nA heart-pumping\, calorie torching aerobic workout\, Walk15® is the group exercise version of Leslie Sansone’s ‘Walk at Home’ video programs. Easy to follow\, adaptable to all levels of fitness\, our 30 minute workout is equivalent to a 2 mile walk. Those 15 minute miles add up to an effective workout for “all walks of life”!  Dress comfortably with athletic shoes\, bring your water bottle\, and join us in the Worship Center Wednesdays at 9AM. Molly Schaaf  walklivewithmolly@gmail.com
URL:https://www.anona.com/event/walk15-with-molly-26/
LOCATION:Anona Main: 312 – Anona Theater/Wesley Hall
END:VEVENT
END:VCALENDAR